BEGIN:VCALENDAR
VERSION:2.0
PRODID:-//Hope Academy for Kids - ECPv6.15.20//NONSGML v1.0//EN
CALSCALE:GREGORIAN
METHOD:PUBLISH
X-ORIGINAL-URL:https://hopeacademyforkids.org
X-WR-CALDESC:Events for Hope Academy for Kids
REFRESH-INTERVAL;VALUE=DURATION:PT1H
X-Robots-Tag:noindex
X-PUBLISHED-TTL:PT1H
BEGIN:VTIMEZONE
TZID:UTC
BEGIN:STANDARD
TZOFFSETFROM:+0000
TZOFFSETTO:+0000
TZNAME:UTC
DTSTART:20170101T000000
END:STANDARD
END:VTIMEZONE
BEGIN:VTIMEZONE
TZID:America/Kentucky/Louisville
BEGIN:DAYLIGHT
TZOFFSETFROM:-0500
TZOFFSETTO:-0400
TZNAME:EDT
DTSTART:20150308T070000
END:DAYLIGHT
BEGIN:STANDARD
TZOFFSETFROM:-0400
TZOFFSETTO:-0500
TZNAME:EST
DTSTART:20151101T060000
END:STANDARD
BEGIN:DAYLIGHT
TZOFFSETFROM:-0500
TZOFFSETTO:-0400
TZNAME:EDT
DTSTART:20160313T070000
END:DAYLIGHT
BEGIN:STANDARD
TZOFFSETFROM:-0400
TZOFFSETTO:-0500
TZNAME:EST
DTSTART:20161106T060000
END:STANDARD
BEGIN:DAYLIGHT
TZOFFSETFROM:-0500
TZOFFSETTO:-0400
TZNAME:EDT
DTSTART:20170312T070000
END:DAYLIGHT
BEGIN:STANDARD
TZOFFSETFROM:-0400
TZOFFSETTO:-0500
TZNAME:EST
DTSTART:20171105T060000
END:STANDARD
END:VTIMEZONE
BEGIN:VEVENT
DTSTART;VALUE=DATE:20180715
DTEND;VALUE=DATE:20180720
DTSTAMP:20260423T084141
CREATED:20180626T173519Z
LAST-MODIFIED:20180716T163541Z
UID:10874-1531612800-1532044799@hopeacademyforkids.org
SUMMARY:Sports Camp
DESCRIPTION:6:00-8:30 p.m.
URL:https://hopeacademyforkids.org/single-post-name/sports-camp/
LOCATION:Mission Hope for Kids\, 401 W. Poplar St.\, Elizabethtown\, 42701\, United States
CATEGORIES:Summer Program
END:VEVENT
BEGIN:VEVENT
DTSTART;VALUE=DATE:20160718
DTEND;VALUE=DATE:20160723
DTSTAMP:20260423T084141
CREATED:20160422T150438Z
LAST-MODIFIED:20160422T152155Z
UID:197-1468800000-1469231999@hopeacademyforkids.org
SUMMARY:VBS Sponsored by FBC Plattsburg\, Missouri
DESCRIPTION:Submerged: Finding Truth Below the Surface\nPsalm 139:23-24\nBible lessons\, Games\, Crafts\, Music Recreation and Dinner \nGrades 1st – 12th \n4:00-6:30pm
URL:https://hopeacademyforkids.org/single-post-name/vbs-sponsored-fbc-plattsburg-missouri/
LOCATION:Mission Hope for Kids\, 401 W. Poplar St.\, Elizabethtown\, 42701\, United States
CATEGORIES:Summer Program
END:VEVENT
END:VCALENDAR